BEGIN:VCALENDAR
VERSION:2.0
PRODID:-//Sophicity/Tribune/Midway, KY
BEGIN:VEVENT
DTSTAMP:20260425T032700Z
UID:3b29fe0f-a6f5-4a24-a8c3-7164fb90467d-4633
DTSTART:20220712T223000Z
DTEND:20220712T223000Z
LOCATION:Midway Branch Library
CLASS:PUBLIC
SUMMARY:Ocean Blast - All About Submarine Volcanoes
END:VEVENT
END:VCALENDAR
