BEGIN:VCALENDAR
VERSION:2.0
PRODID:-//Sophicity/Tribune/Midway, KY
BEGIN:VEVENT
DTSTAMP:20260424T234454Z
UID:3b29fe0f-a6f5-4a24-a8c3-7164fb90467d-4690
DTSTART:20220523T190000Z
DTEND:20220523T220000Z
LOCATION:Downtown Midway Darlin Jeans Parking Lot
CLASS:PUBLIC
SUMMARY:Farmer's Market
END:VEVENT
END:VCALENDAR
