BEGIN:VCALENDAR
VERSION:2.0
PRODID:-//Sophicity/Tribune/Midway, KY
BEGIN:VEVENT
DTSTAMP:20260425T031120Z
UID:3b29fe0f-a6f5-4a24-a8c3-7164fb90467d-4720
DTSTART:20221203T150000Z
DTEND:20221203T170000Z
LOCATION:Midway Branch Library
CLASS:PUBLIC
SUMMARY:Winter Wildlife Tree Decorating
END:VEVENT
END:VCALENDAR
