BEGIN:VCALENDAR
VERSION:2.0
PRODID:-//Sophicity/Tribune/Midway, KY
BEGIN:VEVENT
DTSTAMP:20260425T030950Z
UID:3b29fe0f-a6f5-4a24-a8c3-7164fb90467d-4722
DTSTART:20221211T190000Z
DTEND:20221211T203000Z
CLASS:PUBLIC
SUMMARY:Midway Holiday Open House
END:VEVENT
END:VCALENDAR
