BEGIN:VCALENDAR
VERSION:2.0
PRODID:-//Sophicity/Tribune/Midway, KY
BEGIN:VEVENT
DTSTAMP:20260424T233738Z
UID:3b29fe0f-a6f5-4a24-a8c3-7164fb90467d-4723
DTSTART:20230212T190000Z
DTEND:20230212T210000Z
LOCATION:Midway Branch Library
CLASS:PUBLIC
SUMMARY:Black Resistance: A Community Perspective
END:VEVENT
END:VCALENDAR
