BEGIN:VCALENDAR
VERSION:2.0
PRODID:-//Sophicity/Tribune/Midway, KY
BEGIN:VEVENT
DTSTAMP:20260425T013806Z
UID:3b29fe0f-a6f5-4a24-a8c3-7164fb90467d-4736
DTSTART:20230117T223000Z
DTEND:20230117T233000Z
LOCATION:101 E Main St. Midway KY 40347
CLASS:PUBLIC
SUMMARY:Regular Council Meeting
END:VEVENT
END:VCALENDAR
