BEGIN:VCALENDAR
VERSION:2.0
PRODID:-//Sophicity/Tribune/Midway, KY
BEGIN:VEVENT
DTSTAMP:20260425T013830Z
UID:3b29fe0f-a6f5-4a24-a8c3-7164fb90467d-4798
DTSTART:20231127T230000Z
DTEND:20231128T001500Z
LOCATION:Midway University, AnneHart Raymond Bldg, Room 120
CLASS:PUBLIC
SUMMARY:Midway Toastmasters
END:VEVENT
END:VCALENDAR
