BEGIN:VCALENDAR
VERSION:2.0
PRODID:-//Sophicity/Tribune/Midway, KY
BEGIN:VEVENT
DTSTAMP:20260424T221617Z
UID:3b29fe0f-a6f5-4a24-a8c3-7164fb90467d-4808
DTSTART:20230517T170000Z
DTEND:20230517T190000Z
CLASS:PUBLIC
SUMMARY:Aunt Molly Jackson Pistol Packin' Woman
END:VEVENT
END:VCALENDAR
