BEGIN:VCALENDAR
VERSION:2.0
PRODID:-//Sophicity/Tribune/Midway, KY
BEGIN:VEVENT
DTSTAMP:20260424T221617Z
UID:3b29fe0f-a6f5-4a24-a8c3-7164fb90467d-4810
DTSTART:20230518T223000Z
DTEND:20230518T233000Z
CLASS:PUBLIC
SUMMARY:Gratz in Midway: From Canewood to Airdrie Stud
END:VEVENT
END:VCALENDAR
