BEGIN:VCALENDAR
VERSION:2.0
PRODID:-//Sophicity/Tribune/Midway, KY
BEGIN:VEVENT
DTSTAMP:20260424T221652Z
UID:3b29fe0f-a6f5-4a24-a8c3-7164fb90467d-4814
DTSTART:20230529T140000Z
DTEND:20230529T160000Z
LOCATION:Midway Cemetery 431 W Stephens St.
CLASS:PUBLIC
SUMMARY:Memorial Day Service 
END:VEVENT
END:VCALENDAR
