BEGIN:VCALENDAR
VERSION:2.0
PRODID:-//Sophicity/Tribune/Midway, KY
BEGIN:VEVENT
DTSTAMP:20260424T221653Z
UID:3b29fe0f-a6f5-4a24-a8c3-7164fb90467d-4815
DTSTART:20230531T213000Z
DTEND:20230531T223000Z
CLASS:PUBLIC
SUMMARY:Special Meeting via Zoom Teleconference
END:VEVENT
END:VCALENDAR
