BEGIN:VCALENDAR
VERSION:2.0
PRODID:-//Sophicity/Tribune/Midway, KY
BEGIN:VEVENT
DTSTAMP:20260425T014056Z
UID:3b29fe0f-a6f5-4a24-a8c3-7164fb90467d-4820
DTSTART:20230728T170000Z
DTEND:20230728T190000Z
CLASS:PUBLIC
SUMMARY:Midway Seniors
END:VEVENT
END:VCALENDAR
