BEGIN:VCALENDAR
VERSION:2.0
PRODID:-//Sophicity/Tribune/Midway, KY
BEGIN:VEVENT
DTSTAMP:20260425T032106Z
UID:3b29fe0f-a6f5-4a24-a8c3-7164fb90467d-4821
DTSTART:20230815T170000Z
DTEND:20230815T210000Z
CLASS:PUBLIC
SUMMARY:Midway Senior Group
END:VEVENT
END:VCALENDAR
