BEGIN:VCALENDAR
VERSION:2.0
PRODID:-//Sophicity/Tribune/Midway, KY
BEGIN:VEVENT
DTSTAMP:20260425T013929Z
UID:3b29fe0f-a6f5-4a24-a8c3-7164fb90467d-4827
DTSTART:20231203T233000Z
DTEND:20231204T013000Z
LOCATION:Midway Christian Church Fellowship Hall
CLASS:PUBLIC
SUMMARY:Estate Planning Meeting
END:VEVENT
END:VCALENDAR
