BEGIN:VCALENDAR
VERSION:2.0
PRODID:-//Sophicity/Tribune/Midway, KY
BEGIN:VEVENT
DTSTAMP:20260425T013909Z
UID:3b29fe0f-a6f5-4a24-a8c3-7164fb90467d-4830
DTSTART:20231213T190000Z
DTEND:20231213T210000Z
CLASS:PUBLIC
SUMMARY:Pop-Up Vaccine Clinic
END:VEVENT
END:VCALENDAR
