BEGIN:VCALENDAR
VERSION:2.0
PRODID:-//Sophicity/Tribune/Midway, KY
BEGIN:VEVENT
DTSTAMP:20260424T202431Z
UID:3b29fe0f-a6f5-4a24-a8c3-7164fb90467d-4908
DTSTART:20240225T180000Z
DTEND:20240225T200000Z
CLASS:PUBLIC
SUMMARY:Midway Celebrates Black History
END:VEVENT
END:VCALENDAR
