BEGIN:VCALENDAR
VERSION:2.0
PRODID:-//Sophicity/Tribune/Midway, KY
BEGIN:VEVENT
DTSTAMP:20260424T220527Z
UID:3b29fe0f-a6f5-4a24-a8c3-7164fb90467d-4909
DTSTART:20240206T210000Z
DTEND:20240206T220000Z
LOCATION:Midway Branch Library
CLASS:PUBLIC
SUMMARY:February Home Refresh
END:VEVENT
END:VCALENDAR
