BEGIN:VCALENDAR
VERSION:2.0
PRODID:-//Sophicity/Tribune/Midway, KY
BEGIN:VEVENT
DTSTAMP:20260424T215841Z
UID:3b29fe0f-a6f5-4a24-a8c3-7164fb90467d-4910
DTSTART:20240215T233000Z
DTEND:20240216T003000Z
CLASS:PUBLIC
SUMMARY:The Heart of the Turf - Racing's Black Pioneers
END:VEVENT
END:VCALENDAR
