BEGIN:VCALENDAR
VERSION:2.0
PRODID:-//Sophicity/Tribune/Midway, KY
BEGIN:VEVENT
DTSTAMP:20260424T202558Z
UID:3b29fe0f-a6f5-4a24-a8c3-7164fb90467d-4946
DTSTART:20240227T230000Z
DTEND:20240228T010000Z
LOCATION:Versailles United Methodist Church
CLASS:PUBLIC
SUMMARY:Community Comprehensive Plan Meeting
END:VEVENT
END:VCALENDAR
