BEGIN:VCALENDAR
VERSION:2.0
PRODID:-//Sophicity/Tribune/Midway, KY
BEGIN:VEVENT
DTSTAMP:20260424T202414Z
UID:3b29fe0f-a6f5-4a24-a8c3-7164fb90467d-4947
DTSTART:20240229T230000Z
DTEND:20240301T010000Z
LOCATION:Northside Elementary School
CLASS:PUBLIC
SUMMARY:Community Comprehensive Plan Meeting
END:VEVENT
END:VCALENDAR
