BEGIN:VCALENDAR
VERSION:2.0
PRODID:-//Sophicity/Tribune/Midway, KY
BEGIN:VEVENT
DTSTAMP:20260425T031005Z
UID:3b29fe0f-a6f5-4a24-a8c3-7164fb90467d-4955
DTSTART:20241010T213000Z
DTEND:20241010T223000Z
LOCATION:Midway Library
CLASS:PUBLIC
SUMMARY:Park Board Meeting
END:VEVENT
END:VCALENDAR
