BEGIN:VCALENDAR
VERSION:2.0
PRODID:-//Sophicity/Tribune/Midway, KY
BEGIN:VEVENT
DTSTAMP:20260424T202805Z
UID:3b29fe0f-a6f5-4a24-a8c3-7164fb90467d-4958
DTSTART:20240316T150000Z
DTEND:20240316T170000Z
CLASS:PUBLIC
SUMMARY:Everything Equine
END:VEVENT
END:VCALENDAR
