BEGIN:VCALENDAR
VERSION:2.0
PRODID:-//Sophicity/Tribune/Midway, KY
BEGIN:VEVENT
DTSTAMP:20260424T185140Z
UID:3b29fe0f-a6f5-4a24-a8c3-7164fb90467d-4962
DTSTART:20240424T180000Z
DTEND:20240424T190000Z
LOCATION:Woodford County Senior Center
CLASS:PUBLIC
SUMMARY:Kentucky Chautauqua Roscoe Tarleton Goose
END:VEVENT
END:VCALENDAR
