BEGIN:VCALENDAR
VERSION:2.0
PRODID:-//Sophicity/Tribune/Midway, KY
BEGIN:VEVENT
DTSTAMP:20260424T185053Z
UID:3b29fe0f-a6f5-4a24-a8c3-7164fb90467d-4963
DTSTART:20240420T130000Z
DTEND:20240420T160000Z
LOCATION:Walter Bradley Park
CLASS:PUBLIC
SUMMARY:Main Street Clean Sweep
END:VEVENT
END:VCALENDAR
