BEGIN:VCALENDAR
VERSION:2.0
PRODID:-//Sophicity/Tribune/Midway, KY
BEGIN:VEVENT
DTSTAMP:20260424T184126Z
UID:3b29fe0f-a6f5-4a24-a8c3-7164fb90467d-4966
DTSTART:20240508T213000Z
DTEND:20240508T233000Z
CLASS:PUBLIC
SUMMARY:Community CPR Training
END:VEVENT
END:VCALENDAR
