BEGIN:VCALENDAR
VERSION:2.0
PRODID:-//Sophicity/Tribune/Midway, KY
BEGIN:VEVENT
DTSTAMP:20260424T221555Z
UID:3b29fe0f-a6f5-4a24-a8c3-7164fb90467d-4971
DTSTART:20240611T223000Z
DTEND:20240612T000000Z
LOCATION:The Thoroughbred Theater
CLASS:PUBLIC
SUMMARY:Daniel Boone: The First Kentuckian
END:VEVENT
END:VCALENDAR
