BEGIN:VCALENDAR
VERSION:2.0
PRODID:-//Sophicity/Tribune/Midway, KY
BEGIN:VEVENT
DTSTAMP:20260424T235129Z
UID:3b29fe0f-a6f5-4a24-a8c3-7164fb90467d-4975
DTSTART:20240709T220000Z
DTEND:20240709T220000Z
LOCATION:101 E Main St. Midway, Ky 40347
CLASS:PUBLIC
SUMMARY:Code Enforcement Board Hearing
END:VEVENT
END:VCALENDAR
