BEGIN:VCALENDAR
VERSION:2.0
PRODID:-//Sophicity/Tribune/Midway, KY
BEGIN:VEVENT
DTSTAMP:20260425T013706Z
UID:3b29fe0f-a6f5-4a24-a8c3-7164fb90467d-4977
DTSTART:20240815T220000Z
DTEND:20240815T230000Z
CLASS:PUBLIC
SUMMARY:Blood Pressure 101
END:VEVENT
END:VCALENDAR
