BEGIN:VCALENDAR
VERSION:2.0
PRODID:-//Sophicity/Tribune/Midway, KY
BEGIN:VEVENT
DTSTAMP:20260424T234555Z
UID:3b29fe0f-a6f5-4a24-a8c3-7164fb90467d-4979
DTSTART:20240805T213000Z
DTEND:20240805T223000Z
CLASS:PUBLIC
SUMMARY:CANCELLED Regular Council Meeting
END:VEVENT
END:VCALENDAR
