BEGIN:VCALENDAR
VERSION:2.0
PRODID:-//Sophicity/Tribune/Midway, KY
BEGIN:VEVENT
DTSTAMP:20260425T031617Z
UID:3b29fe0f-a6f5-4a24-a8c3-7164fb90467d-4983
DTSTART:20240920T140000Z
DTEND:20240920T180000Z
CLASS:PUBLIC
SUMMARY:National POW/MIA Recognition Day
END:VEVENT
END:VCALENDAR
