BEGIN:VCALENDAR
VERSION:2.0
PRODID:-//Sophicity/Tribune/Midway, KY
BEGIN:VEVENT
DTSTAMP:20260425T032712Z
UID:3b29fe0f-a6f5-4a24-a8c3-7164fb90467d-4990
DTSTART:20241021T213000Z
DTEND:20241021T223000Z
CLASS:PUBLIC
SUMMARY:Regular Council Meeting Rescheduled for 10/23
END:VEVENT
END:VCALENDAR
