BEGIN:VCALENDAR
VERSION:2.0
PRODID:-//Sophicity/Tribune/Midway, KY
BEGIN:VEVENT
DTSTAMP:20260425T013804Z
UID:3b29fe0f-a6f5-4a24-a8c3-7164fb90467d-4993
DTSTART:20241113T233000Z
DTEND:20241114T003000Z
LOCATION:Midway Branch Library
CLASS:PUBLIC
SUMMARY:Of a Midway Mind with Bob Rouse
END:VEVENT
END:VCALENDAR
