BEGIN:VCALENDAR
VERSION:2.0
PRODID:-//Sophicity/Tribune/Midway, KY
BEGIN:VEVENT
DTSTAMP:20260425T013831Z
UID:3b29fe0f-a6f5-4a24-a8c3-7164fb90467d-4994
DTSTART:20241112T230000Z
DTEND:20241113T000000Z
LOCATION:101 E Main St.
CLASS:PUBLIC
SUMMARY:Code Enforcement Board Meeting
END:VEVENT
END:VCALENDAR
