BEGIN:VCALENDAR
VERSION:2.0
PRODID:-//Sophicity/Tribune/Midway, KY
BEGIN:VEVENT
DTSTAMP:20260424T234956Z
UID:3b29fe0f-a6f5-4a24-a8c3-7164fb90467d-4996
DTSTART:20241207T233000Z
DTEND:20241208T003000Z
LOCATION:The Thoroughbred Theater
CLASS:PUBLIC
SUMMARY:Christmas in the American Colonies
END:VEVENT
END:VCALENDAR
