BEGIN:VCALENDAR
VERSION:2.0
PRODID:-//Sophicity/Tribune/Midway, KY
BEGIN:VEVENT
DTSTAMP:20260424T235841Z
UID:3b29fe0f-a6f5-4a24-a8c3-7164fb90467d-5007
DTSTART:20250823T200000Z
DTEND:20250824T020000Z
LOCATION:Downtown Midway
CLASS:PUBLIC
SUMMARY:Block Party
END:VEVENT
END:VCALENDAR
