BEGIN:VCALENDAR
VERSION:2.0
PRODID:-//Sophicity/Tribune/Midway, KY
BEGIN:VEVENT
DTSTAMP:20260425T013755Z
UID:3b29fe0f-a6f5-4a24-a8c3-7164fb90467d-5029
DTSTART:20250915T213000Z
DTEND:20250915T223000Z
LOCATION:101 E Main St. Midway
CLASS:PUBLIC
SUMMARY:Regular Council Meeting
END:VEVENT
END:VCALENDAR
