BEGIN:VCALENDAR
VERSION:2.0
PRODID:-//Sophicity/Tribune/Midway, KY
BEGIN:VEVENT
DTSTAMP:20260424T185729Z
UID:3b29fe0f-a6f5-4a24-a8c3-7164fb90467d-5056
DTSTART:20250312T213000Z
DTEND:20250312T223000Z
LOCATION:Midway Administration Office - 426 S Winter St. Midway, KY 40347
CLASS:PUBLIC
SUMMARY:Cemetery and City Property Committee Meeting
END:VEVENT
END:VCALENDAR
