BEGIN:VCALENDAR
VERSION:2.0
PRODID:-//Sophicity/Tribune/Midway, KY
BEGIN:VEVENT
DTSTAMP:20260424T234823Z
UID:3b29fe0f-a6f5-4a24-a8c3-7164fb90467d-5064
DTSTART:20251113T223000Z
DTEND:20251113T233000Z
LOCATION:Midway Library
CLASS:PUBLIC
SUMMARY:Park Board Meeting
END:VEVENT
END:VCALENDAR
