BEGIN:VCALENDAR
VERSION:2.0
PRODID:-//Sophicity/Tribune/Midway, KY
BEGIN:VEVENT
DTSTAMP:20260424T171858Z
UID:3b29fe0f-a6f5-4a24-a8c3-7164fb90467d-5066
DTSTART:20250405T150000Z
DTEND:20250405T170000Z
LOCATION:Midway University, 512 E. Stephens St.
CLASS:PUBLIC
SUMMARY:Everything Equine - CANCELED
END:VEVENT
END:VCALENDAR
