BEGIN:VCALENDAR
VERSION:2.0
PRODID:-//Sophicity/Tribune/Midway, KY
BEGIN:VEVENT
DTSTAMP:20260424T170927Z
UID:3b29fe0f-a6f5-4a24-a8c3-7164fb90467d-5069
DTSTART:20250415T213000Z
DTEND:20250415T213000Z
LOCATION:101 E Main St. Midway KY 40347
CLASS:PUBLIC
SUMMARY:City Council Budget Workshop
END:VEVENT
END:VCALENDAR
