BEGIN:VCALENDAR
VERSION:2.0
PRODID:-//Sophicity/Tribune/Midway, KY
BEGIN:VEVENT
DTSTAMP:20260424T171111Z
UID:3b29fe0f-a6f5-4a24-a8c3-7164fb90467d-5070
DTSTART:20250426T130000Z
DTEND:20250426T160000Z
LOCATION:Walter Bradley Park, 399 Dudley Street
CLASS:PUBLIC
SUMMARY:Main Street Clean Sweep
END:VEVENT
END:VCALENDAR
