BEGIN:VCALENDAR
VERSION:2.0
PRODID:-//Sophicity/Tribune/Midway, KY
BEGIN:VEVENT
DTSTAMP:20260424T171828Z
UID:3b29fe0f-a6f5-4a24-a8c3-7164fb90467d-5071
DTSTART:20250429T220000Z
DTEND:20250429T220000Z
LOCATION:101 E Main St. Midway KY
CLASS:PUBLIC
SUMMARY:Midway Code Enforcement Board Meeting
END:VEVENT
END:VCALENDAR
