BEGIN:VCALENDAR
VERSION:2.0
PRODID:-//Sophicity/Tribune/Midway, KY
BEGIN:VEVENT
DTSTAMP:20260424T184853Z
UID:3b29fe0f-a6f5-4a24-a8c3-7164fb90467d-5072
DTSTART:20250517T140000Z
DTEND:20250517T190000Z
LOCATION:123 E. Bruen Street, Midway
CLASS:PUBLIC
SUMMARY:Fourth Semi-Annual NEW-2-U Sale
END:VEVENT
END:VCALENDAR
