BEGIN:VCALENDAR
VERSION:2.0
PRODID:-//Sophicity/Tribune/Midway, KY
BEGIN:VEVENT
DTSTAMP:20260424T184852Z
UID:3b29fe0f-a6f5-4a24-a8c3-7164fb90467d-5073
DTSTART:20250516T200000Z
DTEND:20250516T210000Z
CLASS:PUBLIC
SUMMARY:Summer Sweets with the Sisters
END:VEVENT
END:VCALENDAR
