BEGIN:VCALENDAR
VERSION:2.0
PRODID:-//Sophicity/Tribune/Midway, KY
BEGIN:VEVENT
DTSTAMP:20260424T184138Z
UID:3b29fe0f-a6f5-4a24-a8c3-7164fb90467d-5075
DTSTART:20250521T223000Z
DTEND:20250521T233000Z
LOCATION:Midway Branch
CLASS:PUBLIC
SUMMARY:Kentucky Migration: Pathways to Settlement
END:VEVENT
END:VCALENDAR
