BEGIN:VCALENDAR
VERSION:2.0
PRODID:-//Sophicity/Tribune/Midway, KY
BEGIN:VEVENT
DTSTAMP:20260424T184932Z
UID:3b29fe0f-a6f5-4a24-a8c3-7164fb90467d-5076
DTSTART:20250601T173000Z
DTEND:20250601T173000Z
LOCATION:103 North Turner Sreet, Midway, KY 40347
CLASS:PUBLIC
SUMMARY:Juneteenth Community Art Event: Creating the Wisdom Walk
END:VEVENT
END:VCALENDAR
