BEGIN:VCALENDAR
VERSION:2.0
PRODID:-//Sophicity/Tribune/Midway, KY
BEGIN:VEVENT
DTSTAMP:20260425T013705Z
UID:3b29fe0f-a6f5-4a24-a8c3-7164fb90467d-5086
DTSTART:20251025T140000Z
DTEND:20251025T150000Z
LOCATION:Main Street - Downtown Midway
CLASS:PUBLIC
SUMMARY:Midway University Homecoming Parade
END:VEVENT
END:VCALENDAR
