BEGIN:VCALENDAR
VERSION:2.0
PRODID:-//Sophicity/Tribune/Midway, KY
BEGIN:VEVENT
DTSTAMP:20260425T013626Z
UID:3b29fe0f-a6f5-4a24-a8c3-7164fb90467d-5087
DTSTART:20250919T140000Z
DTEND:20250919T170000Z
CLASS:PUBLIC
SUMMARY:POW/MIA Recognition Day
END:VEVENT
END:VCALENDAR
