BEGIN:VCALENDAR
VERSION:2.0
PRODID:-//Sophicity/Tribune/Midway, KY
BEGIN:VEVENT
DTSTAMP:20260425T013603Z
UID:3b29fe0f-a6f5-4a24-a8c3-7164fb90467d-5089
DTSTART:20251012T114500Z
DTEND:20251012T144500Z
LOCATION:S. Brand St
CLASS:PUBLIC
SUMMARY:Iron Horse Half Marathon & 12K
END:VEVENT
END:VCALENDAR
