BEGIN:VCALENDAR
VERSION:2.0
PRODID:-//Sophicity/Tribune/Midway, KY
BEGIN:VEVENT
DTSTAMP:20260425T013805Z
UID:3b29fe0f-a6f5-4a24-a8c3-7164fb90467d-5090
DTSTART:20251018T150000Z
DTEND:20251018T170000Z
LOCATION:Midway University's Equestrian Center
CLASS:PUBLIC
SUMMARY:Everything Equine
END:VEVENT
END:VCALENDAR
